BEGIN:VCALENDAR
VERSION:2.0
PRODID:-//Flushing Parks and Recreation - ECPv6.15.20//NONSGML v1.0//EN
CALSCALE:GREGORIAN
METHOD:PUBLISH
X-WR-CALNAME:Flushing Parks and Recreation
X-ORIGINAL-URL:https://flushingparks.org
X-WR-CALDESC:Events for Flushing Parks and Recreation
REFRESH-INTERVAL;VALUE=DURATION:PT1H
X-Robots-Tag:noindex
X-PUBLISHED-TTL:PT1H
BEGIN:VTIMEZONE
TZID:America/Detroit
BEGIN:DAYLIGHT
TZOFFSETFROM:-0500
TZOFFSETTO:-0400
TZNAME:EDT
DTSTART:20250309T070000
END:DAYLIGHT
BEGIN:STANDARD
TZOFFSETFROM:-0400
TZOFFSETTO:-0500
TZNAME:EST
DTSTART:20251102T060000
END:STANDARD
BEGIN:DAYLIGHT
TZOFFSETFROM:-0500
TZOFFSETTO:-0400
TZNAME:EDT
DTSTART:20260308T070000
END:DAYLIGHT
BEGIN:STANDARD
TZOFFSETFROM:-0400
TZOFFSETTO:-0500
TZNAME:EST
DTSTART:20261101T060000
END:STANDARD
BEGIN:DAYLIGHT
TZOFFSETFROM:-0500
TZOFFSETTO:-0400
TZNAME:EDT
DTSTART:20270314T070000
END:DAYLIGHT
BEGIN:STANDARD
TZOFFSETFROM:-0400
TZOFFSETTO:-0500
TZNAME:EST
DTSTART:20271107T060000
END:STANDARD
END:VTIMEZONE
BEGIN:VEVENT
DTSTART;TZID=America/Detroit:20261017T180000
DTEND;TZID=America/Detroit:20261017T213000
DTSTAMP:20260419T155036
CREATED:20260223T231010Z
LAST-MODIFIED:20260223T182221Z
UID:186-1792260000-1792272600@flushingparks.org
SUMMARY:Trail of Terror 2026
DESCRIPTION:The Flushing Trail of Terror or ToT for short\, is an all-volunteer fund-raising event and largest for the City of Flushing Parks and Recreation. This event is hosted outdoors along the Riverview Trail and aims to haunt about a mile and a half of trail for our guests’ enjoyment. Money from the event will be used for improvements in the City of Flushing Parks and Events.
URL:https://flushingparks.org/event/trail-of-terror-2026/
LOCATION:Riverview Trail ToT\, 300 W Main St\, Flushing\, MI\, 48433\, United States
END:VEVENT
END:VCALENDAR