BEGIN:VCALENDAR
VERSION:2.0
PRODID:-//Flushing Parks and Recreation - ECPv6.15.20//NONSGML v1.0//EN
CALSCALE:GREGORIAN
METHOD:PUBLISH
X-WR-CALNAME:Flushing Parks and Recreation
X-ORIGINAL-URL:https://flushingparks.org
X-WR-CALDESC:Events for Flushing Parks and Recreation
REFRESH-INTERVAL;VALUE=DURATION:PT1H
X-Robots-Tag:noindex
X-PUBLISHED-TTL:PT1H
BEGIN:VTIMEZONE
TZID:America/Detroit
BEGIN:DAYLIGHT
TZOFFSETFROM:-0500
TZOFFSETTO:-0400
TZNAME:EDT
DTSTART:20250309T070000
END:DAYLIGHT
BEGIN:STANDARD
TZOFFSETFROM:-0400
TZOFFSETTO:-0500
TZNAME:EST
DTSTART:20251102T060000
END:STANDARD
BEGIN:DAYLIGHT
TZOFFSETFROM:-0500
TZOFFSETTO:-0400
TZNAME:EDT
DTSTART:20260308T070000
END:DAYLIGHT
BEGIN:STANDARD
TZOFFSETFROM:-0400
TZOFFSETTO:-0500
TZNAME:EST
DTSTART:20261101T060000
END:STANDARD
BEGIN:DAYLIGHT
TZOFFSETFROM:-0500
TZOFFSETTO:-0400
TZNAME:EDT
DTSTART:20270314T070000
END:DAYLIGHT
BEGIN:STANDARD
TZOFFSETFROM:-0400
TZOFFSETTO:-0500
TZNAME:EST
DTSTART:20271107T060000
END:STANDARD
END:VTIMEZONE
BEGIN:VEVENT
DTSTART;TZID=America/Detroit:20260711T090000
DTEND;TZID=America/Detroit:20260711T140000
DTSTAMP:20260419T152636
CREATED:20260304T174010Z
LAST-MODIFIED:20260304T174010Z
UID:260-1783760400-1783778400@flushingparks.org
SUMMARY:Flushing Farmers Market – Riverview Park
DESCRIPTION:Visit the Flushing Farmers Market at Riverview Park and enjoy fresh\, locally sourced products while supporting area farmers\, vendors\, and small businesses.\nThe market features a variety of fresh produce\, baked goods\, artisan items\, and more in a welcoming\, community‑focused atmosphere. The Flushing Farmers Market is a great place to shop local\, connect with neighbors\, and enjoy one of Flushing’s most popular park spaces.\nEvent Details \nLocation: Riverview Park\nCost: Free to attend\nFeatures: Local farmers\, food vendors\, and artisan products \nCommunity members and businesses interested in supporting the Farmers Market can learn more about sponsorship opportunities at:\nhttps://flushingparks.com/support\nSupport local. Support Flushing.
URL:https://flushingparks.org/event/flushing-farmers-market-riverview-park-8/
LOCATION:Riverview Park\, 299 South Cherry Street\, Flushing\, MI\, 48433\, United States
END:VEVENT
BEGIN:VEVENT
DTSTART;TZID=America/Detroit:20260716T180000
DTEND;TZID=America/Detroit:20260716T210000
DTSTAMP:20260419T152636
CREATED:20260304T173415Z
LAST-MODIFIED:20260304T173415Z
UID:242-1784224800-1784235600@flushingparks.org
SUMMARY:Thursday Block Party – Downtown Flushing
DESCRIPTION:Join Flushing Parks & Recreation for a Thursday Block Party in Downtown Flushing for an evening of community fun\, entertainment\, and local shopping.\nEnjoy live music\, a variety of vendors\, and a lively downtown atmosphere. Local shops and businesses will be open late\, making this a great opportunity to explore downtown\, support local businesses\, and spend time with friends and neighbors.\nEvent Details \nLocation: Downtown Flushing\nTime: 6:00 PM – 9:00 PM\nCost: Free\nFeatures: Vendors\, live music\, and extended store hours \nCommunity members and businesses interested in supporting this event can learn more about sponsorship opportunities at:\nhttps://flushingparks.com/support\nCome out and enjoy a great summer evening in Downtown Flushing.
URL:https://flushingparks.org/event/thursday-block-party-downtown-flushing-2/
LOCATION:Downtown Flushing\, 100 E Main\, Flushing\, MI\, 48433\, United States
END:VEVENT
BEGIN:VEVENT
DTSTART;TZID=America/Detroit:20260718T090000
DTEND;TZID=America/Detroit:20260718T140000
DTSTAMP:20260419T152636
CREATED:20260304T174024Z
LAST-MODIFIED:20260304T174024Z
UID:262-1784365200-1784383200@flushingparks.org
SUMMARY:Flushing Farmers Market – Riverview Park
DESCRIPTION:Visit the Flushing Farmers Market at Riverview Park and enjoy fresh\, locally sourced products while supporting area farmers\, vendors\, and small businesses.\nThe market features a variety of fresh produce\, baked goods\, artisan items\, and more in a welcoming\, community‑focused atmosphere. The Flushing Farmers Market is a great place to shop local\, connect with neighbors\, and enjoy one of Flushing’s most popular park spaces.\nEvent Details \nLocation: Riverview Park\nCost: Free to attend\nFeatures: Local farmers\, food vendors\, and artisan products \nCommunity members and businesses interested in supporting the Farmers Market can learn more about sponsorship opportunities at:\nhttps://flushingparks.com/support\nSupport local. Support Flushing.
URL:https://flushingparks.org/event/flushing-farmers-market-riverview-park-9/
LOCATION:Riverview Park\, 299 South Cherry Street\, Flushing\, MI\, 48433\, United States
END:VEVENT
BEGIN:VEVENT
DTSTART;TZID=America/Detroit:20260725T090000
DTEND;TZID=America/Detroit:20260725T140000
DTSTAMP:20260419T152636
CREATED:20260304T174043Z
LAST-MODIFIED:20260304T174043Z
UID:264-1784970000-1784988000@flushingparks.org
SUMMARY:Flushing Farmers Market – Riverview Park
DESCRIPTION:Visit the Flushing Farmers Market at Riverview Park and enjoy fresh\, locally sourced products while supporting area farmers\, vendors\, and small businesses.\nThe market features a variety of fresh produce\, baked goods\, artisan items\, and more in a welcoming\, community‑focused atmosphere. The Flushing Farmers Market is a great place to shop local\, connect with neighbors\, and enjoy one of Flushing’s most popular park spaces.\nEvent Details \nLocation: Riverview Park\nCost: Free to attend\nFeatures: Local farmers\, food vendors\, and artisan products \nCommunity members and businesses interested in supporting the Farmers Market can learn more about sponsorship opportunities at:\nhttps://flushingparks.com/support\nSupport local. Support Flushing.
URL:https://flushingparks.org/event/flushing-farmers-market-riverview-park-10/
LOCATION:Riverview Park\, 299 South Cherry Street\, Flushing\, MI\, 48433\, United States
END:VEVENT
END:VCALENDAR