BEGIN:VCALENDAR
VERSION:2.0
PRODID:-//Flushing Parks and Recreation - ECPv6.15.20//NONSGML v1.0//EN
CALSCALE:GREGORIAN
METHOD:PUBLISH
X-WR-CALNAME:Flushing Parks and Recreation
X-ORIGINAL-URL:https://flushingparks.org
X-WR-CALDESC:Events for Flushing Parks and Recreation
REFRESH-INTERVAL;VALUE=DURATION:PT1H
X-Robots-Tag:noindex
X-PUBLISHED-TTL:PT1H
BEGIN:VTIMEZONE
TZID:America/Detroit
BEGIN:DAYLIGHT
TZOFFSETFROM:-0500
TZOFFSETTO:-0400
TZNAME:EDT
DTSTART:20250309T070000
END:DAYLIGHT
BEGIN:STANDARD
TZOFFSETFROM:-0400
TZOFFSETTO:-0500
TZNAME:EST
DTSTART:20251102T060000
END:STANDARD
BEGIN:DAYLIGHT
TZOFFSETFROM:-0500
TZOFFSETTO:-0400
TZNAME:EDT
DTSTART:20260308T070000
END:DAYLIGHT
BEGIN:STANDARD
TZOFFSETFROM:-0400
TZOFFSETTO:-0500
TZNAME:EST
DTSTART:20261101T060000
END:STANDARD
BEGIN:DAYLIGHT
TZOFFSETFROM:-0500
TZOFFSETTO:-0400
TZNAME:EDT
DTSTART:20270314T070000
END:DAYLIGHT
BEGIN:STANDARD
TZOFFSETFROM:-0400
TZOFFSETTO:-0500
TZNAME:EST
DTSTART:20271107T060000
END:STANDARD
END:VTIMEZONE
BEGIN:VEVENT
DTSTART;TZID=America/Detroit:20260424T160000
DTEND;TZID=America/Detroit:20260424T180000
DTSTAMP:20260419T234634
CREATED:20260304T173031Z
LAST-MODIFIED:20260304T173031Z
UID:236-1777046400-1777053600@flushingparks.org
SUMMARY:Arbor Day Tree Giveaway – Cornwell Park
DESCRIPTION:Celebrate Arbor Day with Flushing Parks & Recreation at our Tree Giveaway at Cornwell Park.\nResidents are invited to stop by and receive a free tree while supplies last. This event offers another convenient opportunity to celebrate Arbor Day\, support environmental stewardship\, and help grow a greener Flushing.\nEvent Details \nLocation: Cornwell Park\nTime: 4:00 PM – 6:00 PM\nCost: Free\nWhile supplies last \nCommunity members and businesses interested in supporting this event can learn more about sponsorship opportunities at:\nhttps://flushingparks.com/support\nHelp grow Flushing—one tree at a time.
URL:https://flushingparks.org/event/arbor-day-tree-giveaway-cornwell-park/
LOCATION:Cornwell Park\, 150 E Main St\, Flushing\, MI\, United States
END:VEVENT
BEGIN:VEVENT
DTSTART;TZID=America/Detroit:20260424T100000
DTEND;TZID=America/Detroit:20260424T120000
DTSTAMP:20260419T234634
CREATED:20260304T165925Z
LAST-MODIFIED:20260304T170124Z
UID:233-1777024800-1777032000@flushingparks.org
SUMMARY:Arbor Day Tree Giveaway – Riverview Park
DESCRIPTION:Celebrate Arbor Day with Flushing Parks & Recreation at our Tree Giveaway in Riverview Park.\nResidents are invited to stop by and receive a free tree while supplies last. This family‑friendly event is a great opportunity to support a greener\, healthier community and learn more about the importance of trees in our parks and neighborhoods.\nEvent Details \nLocation: Riverview Park\nTime: 10:00 AM – 12:00 PM\nCost: Free\nWhile supplies last \nCommunity members and businesses interested in supporting this event can learn more about sponsorship opportunities at:\nhttps://flushingparks.com/support\nHelp grow Flushing—one tree at a time.
URL:https://flushingparks.org/event/arbor-day-tree-giveaway-riverview-park/
LOCATION:Riverview Park\, 299 South Cherry Street\, Flushing\, MI\, 48433\, United States
END:VEVENT
BEGIN:VEVENT
DTSTART;TZID=America/Detroit:20260407T173000
DTEND;TZID=America/Detroit:20260407T203000
DTSTAMP:20260419T234634
CREATED:20260304T195934Z
LAST-MODIFIED:20260304T195934Z
UID:311-1775583000-1775593800@flushingparks.org
SUMMARY:Flushing Parks & Recreation Board Meeting
DESCRIPTION:The Flushing Parks and Recreation Board will hold its upcoming meeting to discuss current projects\, park maintenance\, community programming\, and future initiatives. \nThis meeting is open to the public. Community members are encouraged to attend and share input on recreational programs\, park improvements\, and upcoming events.\nFor more information\, visit flushingparks.org.
URL:https://flushingparks.org/event/flushing-parks-recreation-board-meeting-2/
LOCATION:City of Flushing City Hall\, 725 E Main St\, Flushing\, MI\, 48433\, United States
END:VEVENT
BEGIN:VEVENT
DTSTART;TZID=America/Detroit:20260303T173000
DTEND;TZID=America/Detroit:20260303T203000
DTSTAMP:20260419T234634
CREATED:20260304T195752Z
LAST-MODIFIED:20260304T195859Z
UID:308-1772559000-1772569800@flushingparks.org
SUMMARY:Flushing Parks & Recreation Board Meeting
DESCRIPTION:The Flushing Parks and Recreation Board will hold its upcoming meeting to discuss current projects\, park maintenance\, community programming\, and future initiatives. \nThis meeting is open to the public. Community members are encouraged to attend and share input on recreational programs\, park improvements\, and upcoming events.\nFor more information\, visit flushingparks.org.
URL:https://flushingparks.org/event/flushing-parks-recreation-board-meeting/
LOCATION:City of Flushing City Hall\, 725 E Main St\, Flushing\, MI\, 48433\, United States
END:VEVENT
BEGIN:VEVENT
DTSTART;TZID=America/Detroit:20260221T180000
DTEND;TZID=America/Detroit:20260221T200000
DTSTAMP:20260419T234634
CREATED:20260220T211356Z
LAST-MODIFIED:20260223T181854Z
UID:119-1771696800-1771704000@flushingparks.org
SUMMARY:Frozen in Flushing 2026
DESCRIPTION:
URL:https://flushingparks.org/event/frozen-in-flushing-2026/
LOCATION:Riverview Park\, 299 South Cherry Street\, Flushing\, MI\, 48433\, United States
END:VEVENT
END:VCALENDAR