BEGIN:VCALENDAR
VERSION:2.0
PRODID:-//Flushing Parks and Recreation - ECPv6.15.20//NONSGML v1.0//EN
CALSCALE:GREGORIAN
METHOD:PUBLISH
X-ORIGINAL-URL:https://flushingparks.org
X-WR-CALDESC:Events for Flushing Parks and Recreation
REFRESH-INTERVAL;VALUE=DURATION:PT1H
X-Robots-Tag:noindex
X-PUBLISHED-TTL:PT1H
BEGIN:VTIMEZONE
TZID:America/Detroit
BEGIN:DAYLIGHT
TZOFFSETFROM:-0500
TZOFFSETTO:-0400
TZNAME:EDT
DTSTART:20250309T070000
END:DAYLIGHT
BEGIN:STANDARD
TZOFFSETFROM:-0400
TZOFFSETTO:-0500
TZNAME:EST
DTSTART:20251102T060000
END:STANDARD
BEGIN:DAYLIGHT
TZOFFSETFROM:-0500
TZOFFSETTO:-0400
TZNAME:EDT
DTSTART:20260308T070000
END:DAYLIGHT
BEGIN:STANDARD
TZOFFSETFROM:-0400
TZOFFSETTO:-0500
TZNAME:EST
DTSTART:20261101T060000
END:STANDARD
BEGIN:DAYLIGHT
TZOFFSETFROM:-0500
TZOFFSETTO:-0400
TZNAME:EDT
DTSTART:20270314T070000
END:DAYLIGHT
BEGIN:STANDARD
TZOFFSETFROM:-0400
TZOFFSETTO:-0500
TZNAME:EST
DTSTART:20271107T060000
END:STANDARD
BEGIN:DAYLIGHT
TZOFFSETFROM:-0500
TZOFFSETTO:-0400
TZNAME:EDT
DTSTART:20280312T070000
END:DAYLIGHT
BEGIN:STANDARD
TZOFFSETFROM:-0400
TZOFFSETTO:-0500
TZNAME:EST
DTSTART:20281105T060000
END:STANDARD
END:VTIMEZONE
BEGIN:VEVENT
DTSTART;TZID=America/Detroit:20260725T090000
DTEND;TZID=America/Detroit:20260725T140000
DTSTAMP:20260419T234456
CREATED:20260304T174043Z
LAST-MODIFIED:20260304T174043Z
UID:264-1784970000-1784988000@flushingparks.org
SUMMARY:Flushing Farmers Market – Riverview Park
DESCRIPTION:Visit the Flushing Farmers Market at Riverview Park and enjoy fresh\, locally sourced products while supporting area farmers\, vendors\, and small businesses.\nThe market features a variety of fresh produce\, baked goods\, artisan items\, and more in a welcoming\, community‑focused atmosphere. The Flushing Farmers Market is a great place to shop local\, connect with neighbors\, and enjoy one of Flushing’s most popular park spaces.\nEvent Details \nLocation: Riverview Park\nCost: Free to attend\nFeatures: Local farmers\, food vendors\, and artisan products \nCommunity members and businesses interested in supporting the Farmers Market can learn more about sponsorship opportunities at:\nhttps://flushingparks.com/support\nSupport local. Support Flushing.
URL:https://flushingparks.org/event/flushing-farmers-market-riverview-park-10/
LOCATION:Riverview Park\, 299 South Cherry Street\, Flushing\, MI\, 48433\, United States
END:VEVENT
BEGIN:VEVENT
DTSTART;TZID=America/Detroit:20260801T090000
DTEND;TZID=America/Detroit:20260801T140000
DTSTAMP:20260419T234456
CREATED:20260304T174057Z
LAST-MODIFIED:20260304T174057Z
UID:266-1785574800-1785592800@flushingparks.org
SUMMARY:Flushing Farmers Market – Riverview Park
DESCRIPTION:Visit the Flushing Farmers Market at Riverview Park and enjoy fresh\, locally sourced products while supporting area farmers\, vendors\, and small businesses.\nThe market features a variety of fresh produce\, baked goods\, artisan items\, and more in a welcoming\, community‑focused atmosphere. The Flushing Farmers Market is a great place to shop local\, connect with neighbors\, and enjoy one of Flushing’s most popular park spaces.\nEvent Details \nLocation: Riverview Park\nCost: Free to attend\nFeatures: Local farmers\, food vendors\, and artisan products \nCommunity members and businesses interested in supporting the Farmers Market can learn more about sponsorship opportunities at:\nhttps://flushingparks.com/support\nSupport local. Support Flushing.
URL:https://flushingparks.org/event/flushing-farmers-market-riverview-park-11/
LOCATION:Riverview Park\, 299 South Cherry Street\, Flushing\, MI\, 48433\, United States
END:VEVENT
BEGIN:VEVENT
DTSTART;TZID=America/Detroit:20260808T090000
DTEND;TZID=America/Detroit:20260808T140000
DTSTAMP:20260419T234456
CREATED:20260304T174118Z
LAST-MODIFIED:20260304T174118Z
UID:268-1786179600-1786197600@flushingparks.org
SUMMARY:Flushing Farmers Market – Riverview Park
DESCRIPTION:Visit the Flushing Farmers Market at Riverview Park and enjoy fresh\, locally sourced products while supporting area farmers\, vendors\, and small businesses.\nThe market features a variety of fresh produce\, baked goods\, artisan items\, and more in a welcoming\, community‑focused atmosphere. The Flushing Farmers Market is a great place to shop local\, connect with neighbors\, and enjoy one of Flushing’s most popular park spaces.\nEvent Details \nLocation: Riverview Park\nCost: Free to attend\nFeatures: Local farmers\, food vendors\, and artisan products \nCommunity members and businesses interested in supporting the Farmers Market can learn more about sponsorship opportunities at:\nhttps://flushingparks.com/support\nSupport local. Support Flushing.
URL:https://flushingparks.org/event/flushing-farmers-market-riverview-park-12/
LOCATION:Riverview Park\, 299 South Cherry Street\, Flushing\, MI\, 48433\, United States
END:VEVENT
BEGIN:VEVENT
DTSTART;TZID=America/Detroit:20260815T090000
DTEND;TZID=America/Detroit:20260815T140000
DTSTAMP:20260419T234456
CREATED:20260304T174136Z
LAST-MODIFIED:20260304T174136Z
UID:270-1786784400-1786802400@flushingparks.org
SUMMARY:Flushing Farmers Market – Riverview Park
DESCRIPTION:Visit the Flushing Farmers Market at Riverview Park and enjoy fresh\, locally sourced products while supporting area farmers\, vendors\, and small businesses.\nThe market features a variety of fresh produce\, baked goods\, artisan items\, and more in a welcoming\, community‑focused atmosphere. The Flushing Farmers Market is a great place to shop local\, connect with neighbors\, and enjoy one of Flushing’s most popular park spaces.\nEvent Details \nLocation: Riverview Park\nCost: Free to attend\nFeatures: Local farmers\, food vendors\, and artisan products \nCommunity members and businesses interested in supporting the Farmers Market can learn more about sponsorship opportunities at:\nhttps://flushingparks.com/support\nSupport local. Support Flushing.
URL:https://flushingparks.org/event/flushing-farmers-market-riverview-park-13/
LOCATION:Riverview Park\, 299 South Cherry Street\, Flushing\, MI\, 48433\, United States
END:VEVENT
BEGIN:VEVENT
DTSTART;TZID=America/Detroit:20260820T180000
DTEND;TZID=America/Detroit:20260820T210000
DTSTAMP:20260419T234456
CREATED:20260304T173443Z
LAST-MODIFIED:20260304T173443Z
UID:244-1787248800-1787259600@flushingparks.org
SUMMARY:Thursday Block Party – Downtown Flushing
DESCRIPTION:Join Flushing Parks & Recreation for a Thursday Block Party in Downtown Flushing for an evening of community fun\, entertainment\, and local shopping.\nEnjoy live music\, a variety of vendors\, and a lively downtown atmosphere. Local shops and businesses will be open late\, making this a great opportunity to explore downtown\, support local businesses\, and spend time with friends and neighbors.\nEvent Details \nLocation: Downtown Flushing\nTime: 6:00 PM – 9:00 PM\nCost: Free\nFeatures: Vendors\, live music\, and extended store hours \nCommunity members and businesses interested in supporting this event can learn more about sponsorship opportunities at:\nhttps://flushingparks.com/support\nCome out and enjoy a great summer evening in Downtown Flushing.
URL:https://flushingparks.org/event/thursday-block-party-downtown-flushing-3/
LOCATION:Downtown Flushing\, 100 E Main\, Flushing\, MI\, 48433\, United States
END:VEVENT
BEGIN:VEVENT
DTSTART;TZID=America/Detroit:20260822T090000
DTEND;TZID=America/Detroit:20260822T140000
DTSTAMP:20260419T234456
CREATED:20260304T174156Z
LAST-MODIFIED:20260304T174156Z
UID:272-1787389200-1787407200@flushingparks.org
SUMMARY:Flushing Farmers Market – Riverview Park
DESCRIPTION:Visit the Flushing Farmers Market at Riverview Park and enjoy fresh\, locally sourced products while supporting area farmers\, vendors\, and small businesses.\nThe market features a variety of fresh produce\, baked goods\, artisan items\, and more in a welcoming\, community‑focused atmosphere. The Flushing Farmers Market is a great place to shop local\, connect with neighbors\, and enjoy one of Flushing’s most popular park spaces.\nEvent Details \nLocation: Riverview Park\nCost: Free to attend\nFeatures: Local farmers\, food vendors\, and artisan products \nCommunity members and businesses interested in supporting the Farmers Market can learn more about sponsorship opportunities at:\nhttps://flushingparks.com/support\nSupport local. Support Flushing.
URL:https://flushingparks.org/event/flushing-farmers-market-riverview-park-14/
LOCATION:Riverview Park\, 299 South Cherry Street\, Flushing\, MI\, 48433\, United States
END:VEVENT
BEGIN:VEVENT
DTSTART;TZID=America/Detroit:20260829T090000
DTEND;TZID=America/Detroit:20260829T140000
DTSTAMP:20260419T234456
CREATED:20260304T174216Z
LAST-MODIFIED:20260304T174216Z
UID:274-1787994000-1788012000@flushingparks.org
SUMMARY:Flushing Farmers Market – Riverview Park
DESCRIPTION:Visit the Flushing Farmers Market at Riverview Park and enjoy fresh\, locally sourced products while supporting area farmers\, vendors\, and small businesses.\nThe market features a variety of fresh produce\, baked goods\, artisan items\, and more in a welcoming\, community‑focused atmosphere. The Flushing Farmers Market is a great place to shop local\, connect with neighbors\, and enjoy one of Flushing’s most popular park spaces.\nEvent Details \nLocation: Riverview Park\nCost: Free to attend\nFeatures: Local farmers\, food vendors\, and artisan products \nCommunity members and businesses interested in supporting the Farmers Market can learn more about sponsorship opportunities at:\nhttps://flushingparks.com/support\nSupport local. Support Flushing.
URL:https://flushingparks.org/event/flushing-farmers-market-riverview-park-15/
LOCATION:Riverview Park\, 299 South Cherry Street\, Flushing\, MI\, 48433\, United States
END:VEVENT
BEGIN:VEVENT
DTSTART;TZID=America/Detroit:20260912T000000
DTEND;TZID=America/Detroit:20260912T235959
DTSTAMP:20260419T234456
CREATED:20260305T131137Z
LAST-MODIFIED:20260305T131137Z
UID:315-1789171200-1789257599@flushingparks.org
SUMMARY:Cemetery Walk
DESCRIPTION:Cemetery Walk – Flushing Area Historical Society & Flushing Parks and Recreation\nAs part of the nationwide America 250 celebration\, the Flushing Area Historical Society and Flushing Parks and Recreation invite you to a special guided Cemetery Walk at the Flushing City Cemetery. \nThis commemorative event honors the lives and legacies of notable individuals who helped shape Flushing’s history. Through guided storytelling and historical interpretation\, guests will gain a deeper appreciation for the community’s past and the importance of preserving its heritage.\nStay tuned for time and additional details.
URL:https://flushingparks.org/event/cemetery-walk/
LOCATION:Flushing Cemetery\, 633 Chamberlain St\, Flushing\, MI\, 48433\, United States
END:VEVENT
BEGIN:VEVENT
DTSTART;TZID=America/Detroit:20260912T090000
DTEND;TZID=America/Detroit:20260912T140000
DTSTAMP:20260419T234456
CREATED:20260304T174247Z
LAST-MODIFIED:20260304T174247Z
UID:278-1789203600-1789221600@flushingparks.org
SUMMARY:Flushing Farmers Market – Riverview Park
DESCRIPTION:Visit the Flushing Farmers Market at Riverview Park and enjoy fresh\, locally sourced products while supporting area farmers\, vendors\, and small businesses.\nThe market features a variety of fresh produce\, baked goods\, artisan items\, and more in a welcoming\, community‑focused atmosphere. The Flushing Farmers Market is a great place to shop local\, connect with neighbors\, and enjoy one of Flushing’s most popular park spaces.\nEvent Details \nLocation: Riverview Park\nCost: Free to attend\nFeatures: Local farmers\, food vendors\, and artisan products \nCommunity members and businesses interested in supporting the Farmers Market can learn more about sponsorship opportunities at:\nhttps://flushingparks.com/support\nSupport local. Support Flushing.
URL:https://flushingparks.org/event/flushing-farmers-market-riverview-park-17/
LOCATION:Riverview Park\, 299 South Cherry Street\, Flushing\, MI\, 48433\, United States
END:VEVENT
BEGIN:VEVENT
DTSTART;TZID=America/Detroit:20260919T090000
DTEND;TZID=America/Detroit:20260919T140000
DTSTAMP:20260419T234456
CREATED:20260304T174259Z
LAST-MODIFIED:20260304T174259Z
UID:280-1789808400-1789826400@flushingparks.org
SUMMARY:Flushing Farmers Market – Riverview Park
DESCRIPTION:Visit the Flushing Farmers Market at Riverview Park and enjoy fresh\, locally sourced products while supporting area farmers\, vendors\, and small businesses.\nThe market features a variety of fresh produce\, baked goods\, artisan items\, and more in a welcoming\, community‑focused atmosphere. The Flushing Farmers Market is a great place to shop local\, connect with neighbors\, and enjoy one of Flushing’s most popular park spaces.\nEvent Details \nLocation: Riverview Park\nCost: Free to attend\nFeatures: Local farmers\, food vendors\, and artisan products \nCommunity members and businesses interested in supporting the Farmers Market can learn more about sponsorship opportunities at:\nhttps://flushingparks.com/support\nSupport local. Support Flushing.
URL:https://flushingparks.org/event/flushing-farmers-market-riverview-park-18/
LOCATION:Riverview Park\, 299 South Cherry Street\, Flushing\, MI\, 48433\, United States
END:VEVENT
BEGIN:VEVENT
DTSTART;TZID=America/Detroit:20260926T090000
DTEND;TZID=America/Detroit:20260926T140000
DTSTAMP:20260419T234456
CREATED:20260304T174314Z
LAST-MODIFIED:20260304T174314Z
UID:282-1790413200-1790431200@flushingparks.org
SUMMARY:Flushing Farmers Market – Riverview Park
DESCRIPTION:Visit the Flushing Farmers Market at Riverview Park and enjoy fresh\, locally sourced products while supporting area farmers\, vendors\, and small businesses.\nThe market features a variety of fresh produce\, baked goods\, artisan items\, and more in a welcoming\, community‑focused atmosphere. The Flushing Farmers Market is a great place to shop local\, connect with neighbors\, and enjoy one of Flushing’s most popular park spaces.\nEvent Details \nLocation: Riverview Park\nCost: Free to attend\nFeatures: Local farmers\, food vendors\, and artisan products \nCommunity members and businesses interested in supporting the Farmers Market can learn more about sponsorship opportunities at:\nhttps://flushingparks.com/support\nSupport local. Support Flushing.
URL:https://flushingparks.org/event/flushing-farmers-market-riverview-park-19/
LOCATION:Riverview Park\, 299 South Cherry Street\, Flushing\, MI\, 48433\, United States
END:VEVENT
BEGIN:VEVENT
DTSTART;TZID=America/Detroit:20261003T090000
DTEND;TZID=America/Detroit:20261003T140000
DTSTAMP:20260419T234456
CREATED:20260304T174333Z
LAST-MODIFIED:20260304T174333Z
UID:284-1791018000-1791036000@flushingparks.org
SUMMARY:Flushing Farmers Market – Riverview Park
DESCRIPTION:Visit the Flushing Farmers Market at Riverview Park and enjoy fresh\, locally sourced products while supporting area farmers\, vendors\, and small businesses.\nThe market features a variety of fresh produce\, baked goods\, artisan items\, and more in a welcoming\, community‑focused atmosphere. The Flushing Farmers Market is a great place to shop local\, connect with neighbors\, and enjoy one of Flushing’s most popular park spaces.\nEvent Details \nLocation: Riverview Park\nCost: Free to attend\nFeatures: Local farmers\, food vendors\, and artisan products \nCommunity members and businesses interested in supporting the Farmers Market can learn more about sponsorship opportunities at:\nhttps://flushingparks.com/support\nSupport local. Support Flushing.
URL:https://flushingparks.org/event/flushing-farmers-market-riverview-park-20/
LOCATION:Riverview Park\, 299 South Cherry Street\, Flushing\, MI\, 48433\, United States
END:VEVENT
BEGIN:VEVENT
DTSTART;TZID=America/Detroit:20261010T090000
DTEND;TZID=America/Detroit:20261010T140000
DTSTAMP:20260419T234456
CREATED:20260304T174349Z
LAST-MODIFIED:20260304T174349Z
UID:286-1791622800-1791640800@flushingparks.org
SUMMARY:Flushing Farmers Market – Riverview Park
DESCRIPTION:Visit the Flushing Farmers Market at Riverview Park and enjoy fresh\, locally sourced products while supporting area farmers\, vendors\, and small businesses.\nThe market features a variety of fresh produce\, baked goods\, artisan items\, and more in a welcoming\, community‑focused atmosphere. The Flushing Farmers Market is a great place to shop local\, connect with neighbors\, and enjoy one of Flushing’s most popular park spaces.\nEvent Details \nLocation: Riverview Park\nCost: Free to attend\nFeatures: Local farmers\, food vendors\, and artisan products \nCommunity members and businesses interested in supporting the Farmers Market can learn more about sponsorship opportunities at:\nhttps://flushingparks.com/support\nSupport local. Support Flushing.
URL:https://flushingparks.org/event/flushing-farmers-market-riverview-park-21/
LOCATION:Riverview Park\, 299 South Cherry Street\, Flushing\, MI\, 48433\, United States
END:VEVENT
BEGIN:VEVENT
DTSTART;TZID=America/Detroit:20261017T090000
DTEND;TZID=America/Detroit:20261017T140000
DTSTAMP:20260419T234456
CREATED:20260304T174404Z
LAST-MODIFIED:20260304T174404Z
UID:288-1792227600-1792245600@flushingparks.org
SUMMARY:Flushing Farmers Market – Riverview Park
DESCRIPTION:Visit the Flushing Farmers Market at Riverview Park and enjoy fresh\, locally sourced products while supporting area farmers\, vendors\, and small businesses.\nThe market features a variety of fresh produce\, baked goods\, artisan items\, and more in a welcoming\, community‑focused atmosphere. The Flushing Farmers Market is a great place to shop local\, connect with neighbors\, and enjoy one of Flushing’s most popular park spaces.\nEvent Details \nLocation: Riverview Park\nCost: Free to attend\nFeatures: Local farmers\, food vendors\, and artisan products \nCommunity members and businesses interested in supporting the Farmers Market can learn more about sponsorship opportunities at:\nhttps://flushingparks.com/support\nSupport local. Support Flushing.
URL:https://flushingparks.org/event/flushing-farmers-market-riverview-park-22/
LOCATION:Riverview Park\, 299 South Cherry Street\, Flushing\, MI\, 48433\, United States
END:VEVENT
BEGIN:VEVENT
DTSTART;TZID=America/Detroit:20261017T180000
DTEND;TZID=America/Detroit:20261017T213000
DTSTAMP:20260419T234456
CREATED:20260223T231010Z
LAST-MODIFIED:20260223T182221Z
UID:186-1792260000-1792272600@flushingparks.org
SUMMARY:Trail of Terror 2026
DESCRIPTION:The Flushing Trail of Terror or ToT for short\, is an all-volunteer fund-raising event and largest for the City of Flushing Parks and Recreation. This event is hosted outdoors along the Riverview Trail and aims to haunt about a mile and a half of trail for our guests’ enjoyment. Money from the event will be used for improvements in the City of Flushing Parks and Events.
URL:https://flushingparks.org/event/trail-of-terror-2026/
LOCATION:Riverview Trail ToT\, 300 W Main St\, Flushing\, MI\, 48433\, United States
END:VEVENT
BEGIN:VEVENT
DTSTART;TZID=America/Detroit:20261024T090000
DTEND;TZID=America/Detroit:20261024T140000
DTSTAMP:20260419T234456
CREATED:20260304T174416Z
LAST-MODIFIED:20260304T174416Z
UID:290-1792832400-1792850400@flushingparks.org
SUMMARY:Flushing Farmers Market – Riverview Park
DESCRIPTION:Visit the Flushing Farmers Market at Riverview Park and enjoy fresh\, locally sourced products while supporting area farmers\, vendors\, and small businesses.\nThe market features a variety of fresh produce\, baked goods\, artisan items\, and more in a welcoming\, community‑focused atmosphere. The Flushing Farmers Market is a great place to shop local\, connect with neighbors\, and enjoy one of Flushing’s most popular park spaces.\nEvent Details \nLocation: Riverview Park\nCost: Free to attend\nFeatures: Local farmers\, food vendors\, and artisan products \nCommunity members and businesses interested in supporting the Farmers Market can learn more about sponsorship opportunities at:\nhttps://flushingparks.com/support\nSupport local. Support Flushing.
URL:https://flushingparks.org/event/flushing-farmers-market-riverview-park-23/
LOCATION:Riverview Park\, 299 South Cherry Street\, Flushing\, MI\, 48433\, United States
END:VEVENT
BEGIN:VEVENT
DTSTART;TZID=America/Detroit:20261031T090000
DTEND;TZID=America/Detroit:20261031T140000
DTSTAMP:20260419T234456
CREATED:20260304T174432Z
LAST-MODIFIED:20260304T174432Z
UID:292-1793437200-1793455200@flushingparks.org
SUMMARY:Flushing Farmers Market – Riverview Park
DESCRIPTION:Visit the Flushing Farmers Market at Riverview Park and enjoy fresh\, locally sourced products while supporting area farmers\, vendors\, and small businesses.\nThe market features a variety of fresh produce\, baked goods\, artisan items\, and more in a welcoming\, community‑focused atmosphere. The Flushing Farmers Market is a great place to shop local\, connect with neighbors\, and enjoy one of Flushing’s most popular park spaces.\nEvent Details \nLocation: Riverview Park\nCost: Free to attend\nFeatures: Local farmers\, food vendors\, and artisan products \nCommunity members and businesses interested in supporting the Farmers Market can learn more about sponsorship opportunities at:\nhttps://flushingparks.com/support\nSupport local. Support Flushing.
URL:https://flushingparks.org/event/flushing-farmers-market-riverview-park-24/
LOCATION:Riverview Park\, 299 South Cherry Street\, Flushing\, MI\, 48433\, United States
END:VEVENT
BEGIN:VEVENT
DTSTART;TZID=America/Detroit:20270220T180000
DTEND;TZID=America/Detroit:20270220T200000
DTSTAMP:20260419T234456
CREATED:20260304T174720Z
LAST-MODIFIED:20260304T174720Z
UID:294-1803146400-1803153600@flushingparks.org
SUMMARY:Frozen in Flushing 2027
DESCRIPTION:Experience winter fun at Frozen in Flushing\, a seasonal community event presented by Flushing Parks & Recreation at Riverview Park.\nThis family‑friendly event features winter activities\, seasonal entertainment\, and a festive atmosphere in one of Flushing’s most popular park spaces. The event offers a great opportunity for residents and visitors to enjoy winter in the park while celebrating the season together.\nEvent Details \nLocation: Riverview Park\nCost: Free\nFeatures: Winter activities and seasonal entertainment \nCommunity members and businesses interested in supporting this event can learn more about sponsorship opportunities at:\nhttps://flushingparks.com/support\nJoin us for a fun and festive winter experience at Riverview Park.
URL:https://flushingparks.org/event/frozen-in-flushing-2027/
LOCATION:Riverview Park\, 299 South Cherry Street\, Flushing\, MI\, 48433\, United States
END:VEVENT
END:VCALENDAR