BEGIN:VCALENDAR
VERSION:2.0
PRODID:-//Flushing Parks and Recreation - ECPv6.15.20//NONSGML v1.0//EN
CALSCALE:GREGORIAN
METHOD:PUBLISH
X-WR-CALNAME:Flushing Parks and Recreation
X-ORIGINAL-URL:https://flushingparks.org
X-WR-CALDESC:Events for Flushing Parks and Recreation
REFRESH-INTERVAL;VALUE=DURATION:PT1H
X-Robots-Tag:noindex
X-PUBLISHED-TTL:PT1H
BEGIN:VTIMEZONE
TZID:America/Detroit
BEGIN:DAYLIGHT
TZOFFSETFROM:-0500
TZOFFSETTO:-0400
TZNAME:EDT
DTSTART:20250309T070000
END:DAYLIGHT
BEGIN:STANDARD
TZOFFSETFROM:-0400
TZOFFSETTO:-0500
TZNAME:EST
DTSTART:20251102T060000
END:STANDARD
BEGIN:DAYLIGHT
TZOFFSETFROM:-0500
TZOFFSETTO:-0400
TZNAME:EDT
DTSTART:20260308T070000
END:DAYLIGHT
BEGIN:STANDARD
TZOFFSETFROM:-0400
TZOFFSETTO:-0500
TZNAME:EST
DTSTART:20261101T060000
END:STANDARD
BEGIN:DAYLIGHT
TZOFFSETFROM:-0500
TZOFFSETTO:-0400
TZNAME:EDT
DTSTART:20270314T070000
END:DAYLIGHT
BEGIN:STANDARD
TZOFFSETFROM:-0400
TZOFFSETTO:-0500
TZNAME:EST
DTSTART:20271107T060000
END:STANDARD
END:VTIMEZONE
BEGIN:VEVENT
DTSTART;TZID=America/Detroit:20260613T090000
DTEND;TZID=America/Detroit:20260613T140000
DTSTAMP:20260419T152635
CREATED:20260304T173918Z
LAST-MODIFIED:20260304T173918Z
UID:256-1781341200-1781359200@flushingparks.org
SUMMARY:Flushing Farmers Market – Riverview Park
DESCRIPTION:Visit the Flushing Farmers Market at Riverview Park and enjoy fresh\, locally sourced products while supporting area farmers\, vendors\, and small businesses.\nThe market features a variety of fresh produce\, baked goods\, artisan items\, and more in a welcoming\, community‑focused atmosphere. The Flushing Farmers Market is a great place to shop local\, connect with neighbors\, and enjoy one of Flushing’s most popular park spaces.\nEvent Details \nLocation: Riverview Park\nCost: Free to attend\nFeatures: Local farmers\, food vendors\, and artisan products \nCommunity members and businesses interested in supporting the Farmers Market can learn more about sponsorship opportunities at:\nhttps://flushingparks.com/support\nSupport local. Support Flushing.
URL:https://flushingparks.org/event/flushing-farmers-market-riverview-park-6/
LOCATION:Riverview Park\, 299 South Cherry Street\, Flushing\, MI\, 48433\, United States
END:VEVENT
END:VCALENDAR